BEGIN:VCALENDAR
VERSION:2.0
PRODID:-//ChamberMaster//Event Calendar 2.0//EN
METHOD:PUBLISH
X-PUBLISHED-TTL:P3D
REFRESH-INTERVAL:P3D
CALSCALE:GREGORIAN
BEGIN:VEVENT
DTSTART:20200630T140000Z
DTEND:20200630T150000Z
X-MICROSOFT-CDO-ALLDAYEVENT:FALSE
SUMMARY:Zoom: The Basics
DESCRIPTION:Zoom is a teleconferencing and web collaboration tool that can be used for meetings\, distance education and social relations.  This class will introduce you to the basics of using Zoom\, including how to invite/join a meeting\, recording a meeting\, test your speaker/microphone\, share your screen and how to use break out rooms.  The class is FREE!
X-ALT-DESC;FMTTYPE=text/html:Zoom is a teleconferencing and web collaboration tool that can be used for meetings\, distance education and social relations.&nbsp\; This class will introduce you to the basics of using Zoom\, including how to invite/join a meeting\, recording a meeting\, test your speaker/microphone\, share your screen and how to use break out rooms.&nbsp\; The class is FREE!&nbsp\;
LOCATION:Online- link to join the class will be sent to your email after registration.
UID:e.2912.2867
SEQUENCE:3
DTSTAMP:20260419T191322Z
URL:https://members.bardstownchamber.com/events/details/zoom-the-basics-2867
END:VEVENT

END:VCALENDAR
