BEGIN:VCALENDAR
VERSION:2.0
PRODID:-//ChamberMaster//Event Calendar 2.0//EN
METHOD:PUBLISH
X-PUBLISHED-TTL:P3D
REFRESH-INTERVAL:P3D
CALSCALE:GREGORIAN
BEGIN:VEVENT
DTSTART:20260324T220000Z
DTEND:20260324T230000Z
X-MICROSOFT-CDO-ALLDAYEVENT:FALSE
SUMMARY:YPN Afterhours at The Trail Hotel
DESCRIPTION:YPN AFTERHOURS\n\nYou're Invited to\n\nCHOPPED: COCKTAIL EDITION\n\n     \n\n \n\nJoin us at\n\nThe Trail Hotel\n\n \n\n \n\nThe Challenge\n\n \n\nThink you work well under pressure? Put your team to the test in this fast-paced\, high-stakes cocktail competition inspired by the hit TV show Chopped. Five teams of five will race against the clock to craft the most creative\, delicious cocktail   using only the supplies provided.\n\n \n\nHow It Works\n\n  5 teams of 5 people   a mix of strangers\, colleagues\, and rivals\n\n  Limited time + limited supplies   use what you're given to create something spectacular\n\n  Two expert bartenders on hand   available to answer YES or NO questions only\n\n  One judge   who will taste\, evaluate\, and crown the winning cocktail\n\n  Best cocktail wins a prize!\n\n \n\nWhat You'll Take Away\n\nThis isn't just about cocktails   it's about working as a team under pressure. You'll sharpen communication\, quick decision-making\, and creative problem-solving   all while having a great time.\n\n \n\nDrinks. Appetizers. Competition. Teamwork. The Trail Hotel.\n\nWe hope to see you there.
X-ALT-DESC;FMTTYPE=text/html:<div style="text-align: center\;"><strong><span style="font-family:times new roman\;"><span style="font-size:20px\;">YPN AFTERHOURS</span></span></strong></div>\n\n<div style="text-align: center\;"><strong><span style="font-family:times new roman\;"><span style="font-size:20px\;">You&#39\;re Invited to</span></span></strong></div>\n\n<div style="text-align: center\;"><strong><span style="font-family:times new roman\;"><span style="font-size:20px\;">CHOPPED: COCKTAIL EDITION</span></span></strong></div>\n\n<div style="text-align: center\;"><span style="font-family:times new roman\;"><span style="font-size:20px\;">&#127865\; &#127942\; &#127865\;</span></span></div>\n\n<div style="text-align: center\;">&nbsp\;</div>\n\n<div style="text-align: center\;"><span style="font-family:times new roman\;"><span style="font-size:20px\;">Join us at</span></span></div>\n\n<div style="text-align: center\;"><span style="font-family:times new roman\;"><span style="font-size:20px\;">The Trail Hotel</span></span></div>\n\n<div style="text-align: center\;">&nbsp\;</div>\n\n<div style="text-align: center\;">&nbsp\;</div>\n\n<div style="text-align: center\;"><span style="font-family:times new roman\;"><span style="font-size:20px\;"><strong>The Challenge</strong></span></span><br />\n&nbsp\;</div>\n\n<div style="text-align: center\;"><span style="font-family:times new roman\;"><span style="font-size:20px\;">Think you work well under pressure? Put your team to the test in this fast-paced\, high-stakes cocktail competition inspired by the hit TV show Chopped. Five teams of five will race against the clock to craft the most creative\, delicious cocktail &mdash\; using only the supplies provided.</span></span><br />\n&nbsp\;</div>\n\n<div style="text-align: center\;"><span style="font-family:times new roman\;"><span style="font-size:20px\;"><strong>How It Works</strong></span></span></div>\n\n<div style="text-align: center\;"><span style="font-family:times new roman\;"><span style="font-size:20px\;">&bull\;<span style="white-space:pre"> </span>5 teams of 5 people &mdash\; a mix of strangers\, colleagues\, and rivals</span></span></div>\n\n<div style="text-align: center\;"><span style="font-family:times new roman\;"><span style="font-size:20px\;">&bull\;<span style="white-space:pre"> </span>Limited time + limited supplies &mdash\; use what you&#39\;re given to create something spectacular</span></span></div>\n\n<div style="text-align: center\;"><span style="font-family:times new roman\;"><span style="font-size:20px\;">&bull\;<span style="white-space:pre"> </span>Two expert bartenders on hand &mdash\; available to answer YES or NO questions only</span></span></div>\n\n<div style="text-align: center\;"><span style="font-family:times new roman\;"><span style="font-size:20px\;">&bull\;<span style="white-space:pre"> </span>One judge &mdash\; who will taste\, evaluate\, and crown the winning cocktail</span></span></div>\n\n<div style="text-align: center\;"><span style="font-family:times new roman\;"><span style="font-size:20px\;">&bull\;<span style="white-space:pre"> </span>Best cocktail wins a prize!</span></span><br />\n&nbsp\;</div>\n\n<div style="text-align: center\;"><span style="font-family:times new roman\;"><span style="font-size:20px\;"><strong>What You&#39\;ll Take Away</strong></span></span></div>\n\n<div style="text-align: center\;"><span style="font-family:times new roman\;"><span style="font-size:20px\;">This isn&#39\;t just about cocktails &mdash\; it&#39\;s about working as a team under pressure. You&#39\;ll sharpen communication\, quick decision-making\, and creative problem-solving &mdash\; all while having a great time.</span></span><br />\n&nbsp\;</div>\n\n<div style="text-align: center\;"><span style="font-family:times new roman\;"><span style="font-size:20px\;">Drinks. Appetizers. Competition. Teamwork. The Trail Hotel.</span></span></div>\n\n<div style="text-align: center\;"><span style="font-family:times new roman\;"><span style="font-size:20px\;">We hope to see you there.</span></span></div>\n
LOCATION:The Trail Hotel 1875 New Haven Rd\, Bardstown\, KY 40004
UID:e.2912.3653
SEQUENCE:3
DTSTAMP:20260424T083802Z
URL:https://members.bardstownchamber.com/events/details/ypn-afterhours-at-the-trail-hotel-3653
END:VEVENT

END:VCALENDAR
