BEGIN:VCALENDAR
VERSION:2.0
PRODID:-//ChamberMaster//Event Calendar 2.0//EN
METHOD:PUBLISH
X-PUBLISHED-TTL:P3D
REFRESH-INTERVAL:P3D
CALSCALE:GREGORIAN
BEGIN:VEVENT
DTSTART:20180616T130000Z
DTEND:20180616T160000Z
X-MICROSOFT-CDO-ALLDAYEVENT:FALSE
SUMMARY:Youth Sports Combine
DESCRIPTION:Prime Time Performance is hosting THE YOUTH SPORTS COMBINE on Saturday\, June 16th at 9am at Nelson County High School. The Combine is an athletic performance assessment that can be used to help athletes improve their athletic performance\, set goals and better understand their athletic abilities. \n\n\n\nThe assessments measure upper body strength endurance\, lower body power\, acceleration\, speed\, agility\, and overall strength. The performance assessments include the 40-yard dash (electronic timed)\, Pro Agility Shuttle\, Broad Jump (Standing long jump)\, Vertical Jump\, and Push-Up/ 135 Ib Bench Press test (optional 14-18 years old). \n\n\n\nAges 6-18 years old\n\n$10 Pre-Registration (See link below)\n\n$15 at the Gate
X-ALT-DESC;FMTTYPE=text/html:<span style="color: rgb(29\, 33\, 41)\; font-family: Helvetica\, Arial\, sans-serif\; font-size: 14px\; background-color: rgb(255\, 255\, 255)\;">Prime Time Performance is hosting THE YOUTH SPORTS COMBINE on Saturday\, June 16th at 9am at Nelson County High School. The Combine is an athletic performance assessment that can be used to help athletes improve their athletic performance\, set goals and better understand their athletic abilities.&nbsp\;</span><br style="color: rgb(29\, 33\, 41)\; font-family: Helvetica\, Arial\, sans-serif\; font-size: 14px\; background-color: rgb(255\, 255\, 255)\;" />\n<br style="color: rgb(29\, 33\, 41)\; font-family: Helvetica\, Arial\, sans-serif\; font-size: 14px\; background-color: rgb(255\, 255\, 255)\;" />\n<span style="color: rgb(29\, 33\, 41)\; font-family: Helvetica\, Arial\, sans-serif\; font-size: 14px\; background-color: rgb(255\, 255\, 255)\;">The assessments measure upper body strength endurance\, lower body power\, acceleration\, speed\, agility\, and overall strength. The performance assessments include the 40-yard dash (electronic timed)\, Pro Agility Shuttle\, Broad Jump (Standing long jump)\, Vertical Jump\, and Push-Up/ 135 Ib Bench Press test (optional 14-18 years old).&nbsp\;</span><br style="color: rgb(29\, 33\, 41)\; font-family: Helvetica\, Arial\, sans-serif\; font-size: 14px\; background-color: rgb(255\, 255\, 255)\;" />\n<br style="color: rgb(29\, 33\, 41)\; font-family: Helvetica\, Arial\, sans-serif\; font-size: 14px\; background-color: rgb(255\, 255\, 255)\;" />\n<span style="color: rgb(29\, 33\, 41)\; font-family: Helvetica\, Arial\, sans-serif\; font-size: 14px\; background-color: rgb(255\, 255\, 255)\;">Ages 6-18 years old</span><br style="color: rgb(29\, 33\, 41)\; font-family: Helvetica\, Arial\, sans-serif\; font-size: 14px\; background-color: rgb(255\, 255\, 255)\;" />\n<span style="color: rgb(29\, 33\, 41)\; font-family: Helvetica\, Arial\, sans-serif\; font-size: 14px\; background-color: rgb(255\, 255\, 255)\;">$10 Pre-Registration (See link below)</span><br style="color: rgb(29\, 33\, 41)\; font-family: Helvetica\, Arial\, sans-serif\; font-size: 14px\; background-color: rgb(255\, 255\, 255)\;" />\n<span style="color: rgb(29\, 33\, 41)\; font-family: Helvetica\, Arial\, sans-serif\; font-size: 14px\; background-color: rgb(255\, 255\, 255)\;">$15 at the Gate</span>
LOCATION:clock Saturday\, June 16 at 9 AM - 12 PM Next Week 68 88 Thunderstorms pin Nelson County High School 1070 Bloomfield Rd\, Bardstown\, Kentucky 40004
UID:e.2912.1516
SEQUENCE:3
DTSTAMP:20260420T011653Z
URL:https://members.bardstownchamber.com/events/details/youth-sports-combine-1516
END:VEVENT

END:VCALENDAR
