BEGIN:VCALENDAR
VERSION:2.0
PRODID:-//ChamberMaster//Event Calendar 2.0//EN
METHOD:PUBLISH
X-PUBLISHED-TTL:P3D
REFRESH-INTERVAL:P3D
CALSCALE:GREGORIAN
BEGIN:VEVENT
DTSTART:20210730T140000Z
DTEND:20210730T190000Z
X-MICROSOFT-CDO-ALLDAYEVENT:FALSE
SUMMARY:Youth Mental Health First Aid (YMHFA)
DESCRIPTION:Youth Mental Health First Aid (YMHFA)\n\nWhen:  Wed. June 30 - 10:00am-3:30pm (EST)\n\nWhere: Zoom (Approximately 2 hrs of pre-work is required)\n\nDescription: Youth Mental Health First Aid is designed to teach parents\, family members\, caregivers\, teachers\, school staff\, peers\, neighbors\, health and human services workers\, and other caring citizens how to help an adolescent (age 12-18) who is experiencing a mental health or addictions challenge or is in crisis. Youth Mental Health First Aid is primarily designed for adults who regularly interact with young people. The course introduces common mental health challenges for youth\, reviews typical adolescent development\, and teaches a 5-step action plan for how to help young people in both crisis and non-crisis situations. Topics covered include anxiety\, depression\, substance use\, disorders in which psychosis may occur\, and suicide.\n\nRegistration: https://redcap.uky.edu/redcap/surveys/?s=X3HLJT4A9N
X-ALT-DESC;FMTTYPE=text/html:<strong><span style="color:black\;"><span style="font-family:calibri\,sans-serif\;">Youth Mental Health First Aid (YMHFA)</span></span></strong><br />\n<strong><span style="color:black\;"><span style="font-family:calibri\,sans-serif\;">When</span></span></strong><span style="color:black\;">:&nbsp\; Wed. June 30 - 10:00am-3:30pm (EST)</span><br />\n<strong><span style="color:black\;"><span style="font-family:calibri\,sans-serif\;">Where</span></span></strong><span style="color:black\;">: Zoom (Approximately 2 hrs of pre-work is required)</span><br />\n<strong><span style="color:black\;"><span style="font-family:calibri\,sans-serif\;">Description</span></span></strong><span style="color:black\;">: Youth Mental Health First Aid is designed to teach parents\, family members\, caregivers\, teachers\, school staff\, peers\, neighbors\, health and human services workers\, and other caring citizens how to help an adolescent (age 12-18) who is experiencing a mental health or addictions challenge or is in crisis. Youth Mental Health First Aid is primarily designed for adults who regularly interact with young people. The course introduces common mental health challenges for youth\, reviews typical adolescent development\, and teaches a 5-step action plan for how to help young people in both crisis and non-crisis situations. Topics covered include anxiety\, depression\, substance use\, disorders in which psychosis may occur\, and suicide.</span><br />\n<strong><span style="color:black\;"><span style="font-family:calibri\,sans-serif\;">Registration</span></span></strong><span style="color:black\;">:&nbsp\;<a href="https://redcap.uky.edu/redcap/surveys/?s=X3HLJT4A9N" target="_blank" title="Ctrl+Click to follow link">https://redcap.uky.edu/redcap/surveys/?s=X3HLJT4A9N</a></span><br />\n&nbsp\;
LOCATION:
UID:e.2912.2991
SEQUENCE:3
DTSTAMP:20260425T002423Z
URL:https://members.bardstownchamber.com/events/details/youth-mental-health-first-aid-ymhfa-2991
END:VEVENT

END:VCALENDAR
