BEGIN:VCALENDAR
VERSION:2.0
PRODID:-//ChamberMaster//Event Calendar 2.0//EN
METHOD:PUBLISH
X-PUBLISHED-TTL:P3D
REFRESH-INTERVAL:P3D
CALSCALE:GREGORIAN
BEGIN:VEVENT
DTSTART:20200507T220000Z
DTEND:20200507T230000Z
X-MICROSOFT-CDO-ALLDAYEVENT:FALSE
SUMMARY:World-Class Cocktail Making
DESCRIPTION:Just because the bars are closed doesn't mean you can't enjoy a fine cocktail from a talented bartender. These virtual cocktail classes are tailored to basic bar tools that you most likely have at your home bar\, as well as common ingredients\, put to use in a spirited way.\n\n\n\nThis week's class is "The Bossy Banana." Grab this shortlist of ingredients and go bananas for this delectable warm weather drink. \n\n	Fusion\n	Dry Vermouth\n	Banana Liqueur\n	Meletti Amaro\n	Lemon\n	Bar Spoon\n	Mixing Glass\n	Strainer
X-ALT-DESC;FMTTYPE=text/html:Just because the bars are closed doesn&#39\;t mean you can&#39\;t enjoy a fine cocktail from a talented bartender. These virtual cocktail classes are tailored to basic bar tools that you most likely have at your home bar\, as well as common ingredients\, put to use in a spirited way.<br />\n<br />\nThis week&#39\;s class is &quot\;The Bossy Banana.&quot\; Grab this shortlist of ingredients and go bananas for this delectable warm weather drink.&nbsp\;\n<ul>\n	<li>Fusion</li>\n	<li>Dry Vermouth</li>\n	<li>Banana Liqueur</li>\n	<li>Meletti Amaro</li>\n	<li>Lemon</li>\n	<li>Bar Spoon</li>\n	<li>Mixing Glass</li>\n	<li>Strainer&nbsp\;&nbsp\;</li>\n</ul>\n
LOCATION:Online
UID:e.2912.2861
SEQUENCE:3
DTSTAMP:20260420T022832Z
URL:https://members.bardstownchamber.com/events/details/world-class-cocktail-making-2861
END:VEVENT

END:VCALENDAR
