BEGIN:VCALENDAR
VERSION:2.0
PRODID:-//ChamberMaster//Event Calendar 2.0//EN
METHOD:PUBLISH
X-PUBLISHED-TTL:P3D
REFRESH-INTERVAL:P3D
CALSCALE:GREGORIAN
BEGIN:VEVENT
DTSTART:20180611T160000Z
DTEND:20180612T000000Z
X-MICROSOFT-CDO-ALLDAYEVENT:FALSE
SUMMARY:Workout anytime Membership event
DESCRIPTION:12 to 8 Pm Workout anytime will have a course you can do to win a prize and guess what you don't have to be a member. from 5 to 7 pm  there will be a raffle for a grill\, holiday world passes\, free memberships and more. come out and enjoy the fun and see all the great things Work Out Anytime has to offer.
X-ALT-DESC;FMTTYPE=text/html:12 to 8 Pm Workout anytime will have a course you can do to win a prize and guess what you don&#39\;t have to be a member. from 5 to 7 pm&nbsp\; there will be a raffle for a grill\, holiday world passes\, free memberships and more. come out and enjoy the fun and see all the great things Work Out Anytime has to offer.&nbsp\;
LOCATION:
UID:e.2912.1512
SEQUENCE:3
DTSTAMP:20260419T235831Z
URL:https://members.bardstownchamber.com/events/details/workout-anytime-membership-event-1512
END:VEVENT

END:VCALENDAR
