BEGIN:VCALENDAR
VERSION:2.0
PRODID:-//ChamberMaster//Event Calendar 2.0//EN
METHOD:PUBLISH
X-PUBLISHED-TTL:P3D
REFRESH-INTERVAL:P3D
CALSCALE:GREGORIAN
BEGIN:VEVENT
DTSTART:20180609T140000Z
DTEND:20180609T170000Z
X-MICROSOFT-CDO-ALLDAYEVENT:FALSE
SUMMARY:Women's Heath and Baby Fair presented by Flaget Memorial Hospital
DESCRIPTION:4305 New Shepherdsville Rd\, Bardstown\, Ky 40004\n\nFlaget Memorial Hospital & Kentucky One Health
X-ALT-DESC;FMTTYPE=text/html:4305 New Shepherdsville Rd\, Bardstown\, Ky 40004<br />\nFlaget Memorial Hospital &amp\; Kentucky One Health&nbsp\;
LOCATION:
UID:e.2912.1515
SEQUENCE:3
DTSTAMP:20260420T012546Z
URL:https://members.bardstownchamber.com/events/details/women-s-heath-and-baby-fair-presented-by-flaget-memorial-hospital-1515
END:VEVENT

END:VCALENDAR
