BEGIN:VCALENDAR
VERSION:2.0
PRODID:-//ChamberMaster//Event Calendar 2.0//EN
METHOD:PUBLISH
X-PUBLISHED-TTL:P3D
REFRESH-INTERVAL:P3D
CALSCALE:GREGORIAN
BEGIN:VEVENT
DTSTART:20171019T160000Z
DTEND:20171019T170000Z
X-MICROSOFT-CDO-ALLDAYEVENT:FALSE
SUMMARY:WOMEN'S COUNCIL OCTOBER 2017
DESCRIPTION:Sponsored by Anytime Fitness\n\nJoin us as Lisa Nowaskie shows some quick tips for weekly meal preparation and nutrition.
X-ALT-DESC;FMTTYPE=text/html:<span style="font-size:18px\;">Sponsored by Anytime Fitness<br>\nJoin us as Lisa Nowaskie shows some quick tips for weekly meal preparation and nutrition.&nbsp\;&nbsp\;</span>
LOCATION:General Nelson Inn 411 W Stephen Foster Ave Bardstown\, KY 40004
UID:e.2912.1384
SEQUENCE:3
DTSTAMP:20260424T110232Z
URL:https://members.bardstownchamber.com/events/details/women-s-council-october-2017-1384
END:VEVENT

END:VCALENDAR
