BEGIN:VCALENDAR
VERSION:2.0
PRODID:-//ChamberMaster//Event Calendar 2.0//EN
METHOD:PUBLISH
X-PUBLISHED-TTL:P3D
REFRESH-INTERVAL:P3D
CALSCALE:GREGORIAN
BEGIN:VEVENT
DTSTART:20161117T170000Z
DTEND:20161117T180000Z
X-MICROSOFT-CDO-ALLDAYEVENT:FALSE
SUMMARY:Women's Council "My Favorite Things Luncheon"
DESCRIPTION:Women\;s Council Luncheon - The biggest\, most talked about event of the year showcasing Bardstown & Nelson County gift ideas.  Oprah Winfrey style prize giving - you just might go home with a fabulous prize !
X-ALT-DESC;FMTTYPE=text/html:Women\;s Council Luncheon - The&nbsp\;biggest\, most talked about event of the year showcasing Bardstown &amp\; Nelson County gift ideas. &nbsp\;Oprah Winfrey style prize giving - you just might go home with a fabulous prize !
LOCATION:The Guthrie Opportunity Center\, 900 Nutter Drive\, Bardstown
UID:e.2912.2
SEQUENCE:3
DTSTAMP:20260425T002432Z
URL:https://members.bardstownchamber.com/events/details/women-s-council-my-favorite-things-luncheon-2
END:VEVENT

END:VCALENDAR
