BEGIN:VCALENDAR
VERSION:2.0
PRODID:-//ChamberMaster//Event Calendar 2.0//EN
METHOD:PUBLISH
X-PUBLISHED-TTL:P3D
REFRESH-INTERVAL:P3D
CALSCALE:GREGORIAN
BEGIN:VEVENT
DTSTART:20170518T160000Z
DTEND:20170518T170000Z
X-MICROSOFT-CDO-ALLDAYEVENT:FALSE
SUMMARY:Women's Council May 2017
DESCRIPTION:The Heart of a Volunteer \n\n \n\nWe make a living by what we get\, but we make a life by what we give.\n\n \n\nWinston Churchill \n\n \n\nJoin us for a panel discussion.
X-ALT-DESC;FMTTYPE=text/html:<p style="margin: 0px\;">&nbsp\;</p>\n\n<p style="margin: 0px\;">&nbsp\;</p>\n\n<p style="margin: 0px\;"><font face="Calibri">The Heart of a Volunteer </font></p>\n\n<p style="margin: 0px\;">&nbsp\;</p>\n\n<p style="margin: 0px\;"><b><font face="Calibri">We make a living by what we get</font></b><font face="Calibri">\, but&nbsp\;</font><b><font face="Calibri">we make</font></b><font face="Calibri">&nbsp\;a life by what&nbsp\;</font><b><font face="Calibri">we</font></b><font face="Calibri">&nbsp\;give.</font></p>\n\n<p style="margin: 0px\;">&nbsp\;</p>\n\n<p style="margin: 0px\;"><font face="Calibri">Winston Churchill </font></p>\n\n<p style="margin: 0px\;">&nbsp\;</p>\n\n<p style="margin: 0px\;"><font face="Calibri">Join us for a panel discussion.</font></p>\n\n<p style="margin: 0px\;">&nbsp\;</p>\n
LOCATION:Schafer's Catering
UID:e.2912.364
SEQUENCE:3
DTSTAMP:20260424T155805Z
URL:https://members.bardstownchamber.com/events/details/women-s-council-may-2017-364
END:VEVENT

END:VCALENDAR
