BEGIN:VCALENDAR
VERSION:2.0
PRODID:-//ChamberMaster//Event Calendar 2.0//EN
METHOD:PUBLISH
X-PUBLISHED-TTL:P3D
REFRESH-INTERVAL:P3D
CALSCALE:GREGORIAN
BEGIN:VEVENT
DTSTART:20170316T160000Z
DTEND:20170316T170000Z
X-MICROSOFT-CDO-ALLDAYEVENT:FALSE
SUMMARY:Women's Council Luncheon/ March 2017
DESCRIPTION:
X-ALT-DESC;FMTTYPE=text/html:
LOCATION:Old Kentucky Home Dinner Train Depot 602 N. Third Street Bardstown\, KY 40004
UID:e.2912.351
SEQUENCE:3
DTSTAMP:20260424T184927Z
URL:https://members.bardstownchamber.com/events/details/women-s-council-luncheon-march-2017-351
END:VEVENT

END:VCALENDAR
