BEGIN:VCALENDAR
VERSION:2.0
PRODID:-//ChamberMaster//Event Calendar 2.0//EN
METHOD:PUBLISH
X-PUBLISHED-TTL:P3D
REFRESH-INTERVAL:P3D
CALSCALE:GREGORIAN
BEGIN:VEVENT
DTSTART:20161215T170000Z
DTEND:20161215T180000Z
X-MICROSOFT-CDO-ALLDAYEVENT:FALSE
SUMMARY:Women's Council Luncheon December 2016
DESCRIPTION:This Women's Council Luncheon will be at
X-ALT-DESC;FMTTYPE=text/html:<div>This Women&#39\;s Council Luncheon will be at</div>\n
LOCATION:
UID:e.2912.216
SEQUENCE:3
DTSTAMP:20260424T230039Z
URL:https://members.bardstownchamber.com/events/details/women-s-council-luncheon-december-2016-216
END:VEVENT

END:VCALENDAR
