BEGIN:VCALENDAR
VERSION:2.0
PRODID:-//ChamberMaster//Event Calendar 2.0//EN
METHOD:PUBLISH
X-PUBLISHED-TTL:P3D
REFRESH-INTERVAL:P3D
CALSCALE:GREGORIAN
BEGIN:VEVENT
DTSTART:20170720T160000Z
DTEND:20170720T170000Z
X-MICROSOFT-CDO-ALLDAYEVENT:FALSE
SUMMARY:Women's Council July 2017
DESCRIPTION:Creativity-  BE YOUR OWN MUSE\n\nA guide tapping into your own creative exploration that will calm your mind\, open your eyes\, and free your artistic spirit.  (Side effects may include joy\, fun\, freedom\, new friendship\, and higher work productivity)
X-ALT-DESC;FMTTYPE=text/html:<p style="margin: 0px\;">Creativity- &nbsp\;BE YOUR OWN MUSE<br />\nA guide tapping into your own creative exploration that will calm your mind\, open your eyes\, and free your artistic spirit. &nbsp\;(Side effects may include joy\, fun\, freedom\, new friendship\, and higher work productivity)</p>\n\n<p style="margin: 0px\;">&nbsp\;</p>\n
LOCATION:BJ's Steakhouse 201 Camptown Road Bardstown\, KY 40004
UID:e.2912.367
SEQUENCE:3
DTSTAMP:20260424T132230Z
URL:https://members.bardstownchamber.com/events/details/women-s-council-july-2017-367
END:VEVENT

END:VCALENDAR
