BEGIN:VCALENDAR
VERSION:2.0
PRODID:-//ChamberMaster//Event Calendar 2.0//EN
METHOD:PUBLISH
X-PUBLISHED-TTL:P3D
REFRESH-INTERVAL:P3D
CALSCALE:GREGORIAN
BEGIN:VEVENT
DTSTART:20170216T170000Z
DTEND:20170216T180000Z
X-MICROSOFT-CDO-ALLDAYEVENT:FALSE
SUMMARY:Women's Council February 2017
DESCRIPTION:Wear Red\, Red Heart for Women.
X-ALT-DESC;FMTTYPE=text/html:Wear Red\, Red Heart for Women.
LOCATION:\;\;\;\;\;\;\;
UID:e.2912.219
SEQUENCE:3
DTSTAMP:20260424T194816Z
URL:https://members.bardstownchamber.com/events/details/women-s-council-february-2017-219
END:VEVENT

END:VCALENDAR
