BEGIN:VCALENDAR
VERSION:2.0
PRODID:-//ChamberMaster//Event Calendar 2.0//EN
METHOD:PUBLISH
X-PUBLISHED-TTL:P3D
REFRESH-INTERVAL:P3D
CALSCALE:GREGORIAN
BEGIN:VEVENT
DTSTART:20191115T170000Z
DTEND:20191115T180000Z
X-MICROSOFT-CDO-ALLDAYEVENT:FALSE
SUMMARY:Women's Council/ Favorite Things 2019
DESCRIPTION:Favorite Things\n\nSponsored by Heaven Hill Distillery\n\nJoin us for this Women's Council event of the year!  Come to get some Holiday gift ideas at our local businesses as they share their favorite things!  Door Prizes and Gifts Galore!
X-ALT-DESC;FMTTYPE=text/html:<span style="font-size:16px\;"><span style="font-family:arial\;"><strong>Favorite Things<br />\nSponsored by Heaven Hill Distillery<br />\nJoin us for this Women&#39\;s Council event of the year!&nbsp\; Come to get some Holiday gift ideas at our local businesses as they share their favorite things!&nbsp\; Door Prizes and Gifts Galore!&nbsp\;</strong></span></span><br />\n&nbsp\;
LOCATION:BJ's Steakhouse 210 Camptown Rd. Bardstown\, KY 40004
UID:e.2912.1672
SEQUENCE:3
DTSTAMP:20260419T182129Z
URL:https://members.bardstownchamber.com/events/details/women-s-council-favorite-things-2019-1672
END:VEVENT

END:VCALENDAR
