BEGIN:VCALENDAR
VERSION:2.0
PRODID:-//ChamberMaster//Event Calendar 2.0//EN
METHOD:PUBLISH
X-PUBLISHED-TTL:P3D
REFRESH-INTERVAL:P3D
CALSCALE:GREGORIAN
BEGIN:VEVENT
DTSTART:20170420T160000Z
DTEND:20170420T170000Z
X-MICROSOFT-CDO-ALLDAYEVENT:FALSE
SUMMARY:Women's Council Fashion Show 2017
DESCRIPTION:Step into Spring with the Fashion Show!\n\n Local merchants showcase all they have for their spring fashion and accessories. Grab your girls and show your support!
X-ALT-DESC;FMTTYPE=text/html:Step into Spring with the Fashion Show!<br />\n&#8203\;Local merchants showcase all they have for their spring fashion and accessories. Grab your girls and show your support!
LOCATION:Bardstown Country Club at Maywood 130 Maywood Ave. Bardstown\, KY 40004
UID:e.2912.352
SEQUENCE:3
DTSTAMP:20260424T172339Z
URL:https://members.bardstownchamber.com/events/details/women-s-council-fashion-show-2017-352
END:VEVENT

END:VCALENDAR
