BEGIN:VCALENDAR
VERSION:2.0
PRODID:-//ChamberMaster//Event Calendar 2.0//EN
METHOD:PUBLISH
X-PUBLISHED-TTL:P3D
REFRESH-INTERVAL:P3D
CALSCALE:GREGORIAN
BEGIN:VEVENT
DTSTART:20171221T170000Z
DTEND:20171221T180000Z
X-MICROSOFT-CDO-ALLDAYEVENT:FALSE
SUMMARY:Women's Council December 2017
DESCRIPTION:Sponsored by McClellan & Patrick Eye Care
X-ALT-DESC;FMTTYPE=text/html:<span style="font-size: 18px\;">Sponsored by McClellan &amp\; Patrick Eye Care</span>
LOCATION:Nelson County Public Library 201 Cathedral Manor Bardstown\, KY 40004
UID:e.2912.1386
SEQUENCE:3
DTSTAMP:20260422T082926Z
URL:https://members.bardstownchamber.com/events/details/women-s-council-december-2017-1386
END:VEVENT

END:VCALENDAR
