BEGIN:VCALENDAR
VERSION:2.0
PRODID:-//ChamberMaster//Event Calendar 2.0//EN
METHOD:PUBLISH
X-PUBLISHED-TTL:P3D
REFRESH-INTERVAL:P3D
CALSCALE:GREGORIAN
BEGIN:VEVENT
DTSTART:20170817T160000Z
DTEND:20170817T170000Z
X-MICROSOFT-CDO-ALLDAYEVENT:FALSE
SUMMARY:Women's Council August 2017
DESCRIPTION:Join us as Lee Mattingly shows you options through methods of lethal and less than lethal  defense techniques. Learn the importance of training and effective decision making when protecting yourself.
X-ALT-DESC;FMTTYPE=text/html:<span style="font-size:14px\;"><span style="font-family:arial\;">Join us as Lee Mattingly shows you options through methods of lethal and less than lethal&nbsp\; defense techniques. Learn the importance of training and effective decision making when protecting yourself.<br />\n&nbsp\;</span></span>
LOCATION:Talbott Tavern 107 W. Stephen Foster Ave.
UID:e.2912.378
SEQUENCE:3
DTSTAMP:20260424T132104Z
URL:https://members.bardstownchamber.com/events/details/women-s-council-august-2017-378
END:VEVENT

END:VCALENDAR
