BEGIN:VCALENDAR
VERSION:2.0
PRODID:-//ChamberMaster//Event Calendar 2.0//EN
METHOD:PUBLISH
X-PUBLISHED-TTL:P3D
REFRESH-INTERVAL:P3D
CALSCALE:GREGORIAN
BEGIN:VEVENT
DTSTART:20181206T210000Z
DTEND:20181207T010000Z
X-MICROSOFT-CDO-ALLDAYEVENT:FALSE
SUMMARY:Winter PRIDE GAMES
DESCRIPTION:The Winter PRIDE GAMES on December 6\, 2018 will occur in downtown Bardstown\, beginning with a chili cook off at the Farmer's Market pavilion at 4 PM. Then follows the #NCPride Facebook post contest and parade float competition during the Bardstown Kiwanis Club 2018 Christmas Parade. From school pride to community energy\, the Winter PRIDE GAMES is sure to be #NPossible.
X-ALT-DESC;FMTTYPE=text/html:The Winter PRIDE GAMES on December 6\, 2018 will occur in downtown Bardstown\, beginning with a chili cook off at the Farmer&#39\;s Market pavilion at 4 PM. Then follows the #NCPride Facebook post contest and parade float competition during the Bardstown Kiwanis Club 2018 Christmas Parade. From school pride to community energy\, the Winter PRIDE GAMES is sure to be #NPossible.&nbsp\;
LOCATION:Downtown Bardstown
UID:e.2912.1640
SEQUENCE:3
DTSTAMP:20260419T145112Z
URL:https://members.bardstownchamber.com/events/details/winter-pride-games-1640
END:VEVENT

END:VCALENDAR
