BEGIN:VCALENDAR
VERSION:2.0
PRODID:-//ChamberMaster//Event Calendar 2.0//EN
METHOD:PUBLISH
X-PUBLISHED-TTL:P3D
REFRESH-INTERVAL:P3D
CALSCALE:GREGORIAN
BEGIN:VEVENT
DTSTART:20200512T140000Z
DTEND:20200512T150000Z
X-MICROSOFT-CDO-ALLDAYEVENT:FALSE
SUMMARY:Webinar: Lead Through Adversity and Achieve More
DESCRIPTION:We are living in a time where we are being challenged in ways\n\nnever seen before. This is not a time for fear and anxiety\, nor is it a\n\ntime to revert to "trial & error" ways. Instead\, it is a perfect time to\n\nconnect with experts in business to focus\, prioritize\, and innovate.\n\nPlease join me in a timely discussion on where the business\n\ncommunity is today\, what we have learned\, and what the critical\n\nnext steps are in seizing the huge opportunities of the future. You\n\nare either disrupting or being disrupted. Which one do you prefer?\n\nLook forward to meeting/talking with you on this powerful webinar\n\nseries scheduled on May 12\, 2020 at 10:00 EDT. I'm excited to\n\nhelp you gain clarity\, optimize your business model\, accelerate your\n\nmarketing/sales to generate revenue growth\, and SOAR your\n\nbusiness to HIGHER altitude ... Engage. Execute. SOAR.
X-ALT-DESC;FMTTYPE=text/html:We are living in a time where we are being challenged in ways<br />\nnever seen before. This is not a time for fear and anxiety\, nor is it a<br />\ntime to revert to &ldquo\;trial &amp\; error&rdquo\; ways. Instead\, it is a perfect time to<br />\nconnect with experts in business to focus\, prioritize\, and innovate.<br />\nPlease join me in a timely discussion on where the business<br />\ncommunity is today\, what we have learned\, and what the critical<br />\nnext steps are in seizing the huge opportunities of the future. You<br />\nare either disrupting or being disrupted. Which one do you prefer?<br />\nLook forward to meeting/talking with you on this powerful webinar<br />\nseries scheduled on May 12\, 2020 at 10:00 EDT. I&rsquo\;m excited to<br />\nhelp you gain clarity\, optimize your business model\, accelerate your<br />\nmarketing/sales to generate revenue growth\, and SOAR your<br />\nbusiness to HIGHER altitude ... Engage. Execute. SOAR.
LOCATION:Online Webinar Link will be provided to the registered email
UID:e.2912.2860
SEQUENCE:3
DTSTAMP:20260420T012039Z
URL:https://members.bardstownchamber.com/events/details/webinar-lead-through-adversity-and-achieve-more-2860
END:VEVENT

END:VCALENDAR
