BEGIN:VCALENDAR
VERSION:2.0
PRODID:-//ChamberMaster//Event Calendar 2.0//EN
METHOD:PUBLISH
X-PUBLISHED-TTL:P3D
REFRESH-INTERVAL:P3D
CALSCALE:GREGORIAN
BEGIN:VEVENT
DTSTART:20200825T140000Z
DTEND:20200825T150000Z
X-MICROSOFT-CDO-ALLDAYEVENT:FALSE
SUMMARY:Virtual Job Fair- Sponsored by PLG TV
DESCRIPTION:This event is for employers that have job openings and career opportunities available.  This will be a Zoom call format that will allow the employer to give a brief description of their company and jobs available and how to apply.
X-ALT-DESC;FMTTYPE=text/html:This event is for employers that have job openings and career opportunities available.&nbsp\; This will be a Zoom call format that will allow the employer to give a brief description of their company and jobs available and how to apply.&nbsp\;&nbsp\;
LOCATION:Online with Zoom Broadcast on PLG TV social media and Chamber social media
UID:e.2912.2880
SEQUENCE:3
DTSTAMP:20260420T071908Z
URL:https://members.bardstownchamber.com/events/details/virtual-job-fair-sponsored-by-plg-tv-2880
END:VEVENT

END:VCALENDAR
