BEGIN:VCALENDAR
VERSION:2.0
PRODID:-//ChamberMaster//Event Calendar 2.0//EN
METHOD:PUBLISH
X-PUBLISHED-TTL:P3D
REFRESH-INTERVAL:P3D
CALSCALE:GREGORIAN
BEGIN:VEVENT
DTSTART:20201110T170000Z
DTEND:20201110T190000Z
X-MICROSOFT-CDO-ALLDAYEVENT:FALSE
SUMMARY:Virtual Career & Internship Fair\, hosted by Elizabethtown Community & Technical College
DESCRIPTION:Elizabethtown Community & Technical College will host its very first VIRTUAL Career & Internship Fair on Tuesday\, November 10th from 12:00pm   2:00pm EST via Microsoft Teams! Employers will have their own meeting rooms where students can join in to learn about open positions and your hiring processes.  There is no fee to participate.\n\n \n\nTo register for our event please use the link below. Once you have registered you will receive more information regarding the job fair details. The deadline to register will be Monday\, November 2nd at 1:00pm.\n\nClick here to RSVP!
X-ALT-DESC;FMTTYPE=text/html:<p class="xxmsonormal"><span style="font-size:14.0pt\;font-family:&quot\;Constantia&quot\;\,serif">Elizabethtown Community &amp\; Technical College will host its very first <b><span style="color:#4472C4">VIRTUAL Career &amp\; Internship Fair</span></b> on <b><span style="color:#4472C4">Tuesday\, November 10<sup>th</sup> from 12:00pm &ndash\; 2:00pm EST</span></b><span style="color:#4472C4"> </span>via Microsoft Teams! Employers will have their own meeting rooms where students can join in to learn about open positions and your hiring processes.&nbsp\; There is no fee to participate.</span><o:p></o:p></p>\n\n<p align="center" class="xxmsonormal" style="text-align:center"><span style="font-size:14.0pt\;font-family:&quot\;Constantia&quot\;\,serif">&nbsp\;</span><o:p></o:p></p>\n\n<p class="xxmsonormal"><span style="font-size:14.0pt\;font-family:&quot\;Constantia&quot\;\,serif">To register for our event please use the link below. Once you have registered you will receive more information regarding the job fair details. The <b>deadline to register</b> will be <b>Monday\, November 2<sup>nd</sup></b> at 1:00pm.</span></p>\n\n<p class="xxmsonormal"><span style="font-size:20.0pt\;font-family:&quot\;Constantia&quot\;\,serif\;\ncolor:#4472C4"><a href="https://urldefense.proofpoint.com/v2/url?u=https-3A__forms.gle_D9mm79fXFhX2vcZGA&amp\;d=DwMFAg&amp\;c=jvUANN7rYqzaQJvTqI-69lgi41yDEZ3CXTgIEaHlx7c&amp\;r=Fyfa6sHxnf__HGT326zyHTBpmLSil_jOxq8BZMBcu14&amp\;m=spSJ1-zBYl_uZPv05rCvKrFCSHCDcRjZwKO0rPBXTmw&amp\;s=MpZtdenpE61HTgcKxho5abB5QlqyGce-9UKUF9zeR1s&amp\;e="><span style="font-size:22.0pt\;color:#4472C4">Click here to RSVP!</span></a></span><span style="font-size:22.0pt\;font-family:&quot\;Constantia&quot\;\,serif\;color:#4472C4"> </span><o:p></o:p></p>\n
LOCATION:Online
UID:e.2912.2896
SEQUENCE:3
DTSTAMP:20260424T080747Z
URL:https://members.bardstownchamber.com/events/details/virtual-career-internship-fair-hosted-by-elizabethtown-community-technical-college-2896
END:VEVENT

END:VCALENDAR
