BEGIN:VCALENDAR
VERSION:2.0
PRODID:-//ChamberMaster//Event Calendar 2.0//EN
METHOD:PUBLISH
X-PUBLISHED-TTL:P3D
REFRESH-INTERVAL:P3D
CALSCALE:GREGORIAN
BEGIN:VEVENT
DTSTART:20191116T140000Z
DTEND:20191116T200000Z
X-MICROSOFT-CDO-ALLDAYEVENT:FALSE
SUMMARY:Veteran's Dental Day
DESCRIPTION:We will be welcoming all Veterans on this day to come get a free exam and cleaning\, and routine treatment if needed as our way of honoring the men and women who have served.  There will also be food\, fun\, and giveaways!
X-ALT-DESC;FMTTYPE=text/html:We will be welcoming all Veterans on this day to come get a free exam and cleaning\, and routine treatment if needed as our way of honoring the men and women who have served.&nbsp\; There will also be food\, fun\, and giveaways!&nbsp\;
LOCATION:Bardstown Dental Care 919 Chambers Blvd.\, Suite A Bardstown\, KY 40004
UID:e.2912.1797
SEQUENCE:3
DTSTAMP:20260419T163551Z
URL:https://members.bardstownchamber.com/events/details/veteran-s-dental-day-1797
END:VEVENT

END:VCALENDAR
