BEGIN:VCALENDAR
VERSION:2.0
PRODID:-//ChamberMaster//Event Calendar 2.0//EN
METHOD:PUBLISH
X-PUBLISHED-TTL:P3D
REFRESH-INTERVAL:P3D
CALSCALE:GREGORIAN
BEGIN:VEVENT
DTSTART:20200722T160000Z
DTEND:20200722T170000Z
X-MICROSOFT-CDO-ALLDAYEVENT:FALSE
SUMMARY:Use Google Tools to Help You Land Your Next Job
DESCRIPTION:Use Google Tools to Help You Land Your Next Job\n		\n	\n\n\n\nDiscover new job opportunities using Google Search and organize your job search experience using G Suite tools. In this workshop we also share strategies to improve your resume\, tips to help you communicate effectively online\, virtual interview best practices\, and the latest resources from Google and other partners to help support job seekers.
X-ALT-DESC;FMTTYPE=text/html:<table border="0" cellpadding="0" cellspacing="0">\n	<tbody>\n		<tr>\n			<td style="padding:0in 0in 0in 0in\;"><span id="docs-internal-guid-2e059287-7fff-4fd1-63fd-10e4d54c4dd2"><span style="font-size: 30pt\; font-family: &quot\;Google Sans&quot\;\, sans-serif\; color: rgb(66\, 133\, 244)\; font-variant-numeric: normal\; font-variant-east-asian: normal\; vertical-align: baseline\; white-space: pre-wrap\;">Use Google Tools to Help You Land Your Next Job</span></span></td>\n		</tr>\n	</tbody>\n</table>\n<br />\n<span id="docs-internal-guid-6bb1bd82-7fff-918b-35c6-f688c1701121"><span style="font-size: 10pt\; font-family: &quot\;Google Sans&quot\;\, sans-serif\; color: rgb(108\, 112\, 113)\; font-variant-numeric: normal\; font-variant-east-asian: normal\; vertical-align: baseline\; white-space: pre-wrap\;">Discover new job opportunities using Google Search and organize your job search experience using G Suite tools. In this workshop we also share strategies to improve your resume\, tips to help you communicate effectively online\, virtual interview best practices\, and the latest resources from Google and other partners to help support job seekers.</span></span>\n\n<table border="0" cellpadding="0" cellspacing="0">\n	<tbody>\n		<tr>\n			<td style="padding:0in 0in 0in 0in\;"><br />\n			&nbsp\;</td>\n		</tr>\n	</tbody>\n</table>\n
LOCATION:Link to Livestream will be sent after registration
UID:e.2912.2875
SEQUENCE:3
DTSTAMP:20260420T042331Z
URL:https://members.bardstownchamber.com/events/details/use-google-tools-to-help-you-land-your-next-job-2875
END:VEVENT

END:VCALENDAR
