BEGIN:VCALENDAR
VERSION:2.0
PRODID:-//ChamberMaster//Event Calendar 2.0//EN
METHOD:PUBLISH
X-PUBLISHED-TTL:P3D
REFRESH-INTERVAL:P3D
CALSCALE:GREGORIAN
BEGIN:VEVENT
DTSTART:20190106T170000Z
DTEND:20190106T190000Z
X-MICROSOFT-CDO-ALLDAYEVENT:FALSE
SUMMARY:Up Close With Joe Caban & Jim Silliman
DESCRIPTION:On behalf of Jim Silliman and myself we would like to invite you\, and your members to attend our photography opening reception on January 6th form 12:00PM   2:00PM at Bardstown for the Arts - The Gallery. The free exhibit will feature up close photography with subjects that include: nature\, wildlife\, equestrian\, bourbon and other macro photography subjects.
X-ALT-DESC;FMTTYPE=text/html:On behalf of Jim Silliman and myself we would like to invite you\, and your members to attend our photography opening reception on January 6th form 12:00PM &ndash\; 2:00PM at Bardstown for the Arts - The Gallery. The free exhibit will feature up close photography with subjects that include: nature\, wildlife\, equestrian\, bourbon and other macro photography subjects.
LOCATION:Bardstown for the Arts - The Gallery ?90 Court Square\, Bardstown\, KY
UID:e.2912.1652
SEQUENCE:3
DTSTAMP:20260419T150544Z
URL:https://members.bardstownchamber.com/events/details/up-close-with-joe-caban-jim-silliman-1652
END:VEVENT

END:VCALENDAR
