BEGIN:VCALENDAR
VERSION:2.0
PRODID:-//ChamberMaster//Event Calendar 2.0//EN
METHOD:PUBLISH
X-PUBLISHED-TTL:P3D
REFRESH-INTERVAL:P3D
CALSCALE:GREGORIAN
BEGIN:VEVENT
DTSTART:20181026T150000Z
DTEND:20181026T170000Z
X-MICROSOFT-CDO-ALLDAYEVENT:FALSE
SUMMARY:Uncle Ham’s Barbecue fundraiser for Bardstown Early Childhood
DESCRIPTION:Uncle Ham's Barbecue is excited to announce that we will be set up for a fundraiser event for Bardstown Early Childhood and Developmental Center! Be sure to come out and support the kids!
X-ALT-DESC;FMTTYPE=text/html:<span style="color: rgb(29\, 33\, 41)\; font-family: Helvetica\, Arial\, sans-serif\; font-size: 14px\; background-color: rgb(255\, 255\, 255)\;">Uncle Ham&rsquo\;s Barbecue is excited to announce that we will be set up for a fundraiser event for Bardstown Early Childhood and Developmental Center! Be sure to come out and support the kids!</span>
LOCATION:
UID:e.2912.1627
SEQUENCE:3
DTSTAMP:20260419T195414Z
URL:https://members.bardstownchamber.com/events/details/uncle-ham-s-barbecue-fundraiser-for-bardstown-early-childhood-1627
END:VEVENT

END:VCALENDAR
