BEGIN:VCALENDAR
VERSION:2.0
PRODID:-//ChamberMaster//Event Calendar 2.0//EN
METHOD:PUBLISH
X-PUBLISHED-TTL:P3D
REFRESH-INTERVAL:P3D
CALSCALE:GREGORIAN
BEGIN:VEVENT
DTSTART:20190817T150000Z
DTEND:20190817T160000Z
X-MICROSOFT-CDO-ALLDAYEVENT:FALSE
SUMMARY:Uncle Ham’s Barbecue Fan Appreciation Day
DESCRIPTION:FINALLY we found a day to set up in town for our fans! We will be set up at Bourbon City Styles Barber Shop locates at 90 Old Bloomfield Pike Bardstown\, KY which is located next door to Boone's Butcher Shop! We are going to cook twice as much as we normally do but we will still sell out fast so make plans to be there early! You don't want to miss out!
X-ALT-DESC;FMTTYPE=text/html:<span style="color: rgb(29\, 33\, 41)\; font-family: Helvetica\, Arial\, sans-serif\; font-size: 14px\; white-space: pre-wrap\; background-color: rgb(255\, 255\, 255)\;">FINALLY we found a day to set up in town for our fans! We will be set up at Bourbon City Styles Barber Shop locates at 90 Old Bloomfield Pike Bardstown\, KY which is located next door to Boone&rsquo\;s Butcher Shop! We are going to cook twice as much as we normally do but we will still sell out fast so make plans to be there early! You don&rsquo\;t want to miss out!</span>
LOCATION:
UID:e.2912.1787
SEQUENCE:3
DTSTAMP:20260419T121010Z
URL:https://members.bardstownchamber.com/events/details/uncle-ham-s-barbecue-fan-appreciation-day-1787
END:VEVENT

END:VCALENDAR
