BEGIN:VCALENDAR
VERSION:2.0
PRODID:-//ChamberMaster//Event Calendar 2.0//EN
METHOD:PUBLISH
X-PUBLISHED-TTL:P3D
REFRESH-INTERVAL:P3D
CALSCALE:GREGORIAN
BEGIN:VEVENT
DTSTART:20171123T130000Z
DTEND:20171123T140000Z
X-MICROSOFT-CDO-ALLDAYEVENT:FALSE
SUMMARY:Turkey Fun Run and Family Stroll
DESCRIPTION:The New Life Center will sponsor a 5K run/walk on Thanksgiving Day. This is a fun time for families and friends to begin their Thanksgiving morning. Join us for a delightful experience to share with those for whom you are thankful.
X-ALT-DESC;FMTTYPE=text/html:The New Life Center will sponsor a 5K run/walk on Thanksgiving Day. This is a fun time for families and friends to begin their Thanksgiving morning. Join us for a delightful experience to share with those for whom you are thankful.
LOCATION:Begin and end at Tiger Alley
UID:e.2912.1395
SEQUENCE:3
DTSTAMP:20260424T082344Z
URL:https://members.bardstownchamber.com/events/details/turkey-fun-run-and-family-stroll-1395
END:VEVENT

END:VCALENDAR
