BEGIN:VCALENDAR
VERSION:2.0
PRODID:-//ChamberMaster//Event Calendar 2.0//EN
METHOD:PUBLISH
X-PUBLISHED-TTL:P3D
REFRESH-INTERVAL:P3D
CALSCALE:GREGORIAN
BEGIN:VEVENT
DTSTART:20181028T220000Z
DTEND:20181029T000000Z
X-MICROSOFT-CDO-ALLDAYEVENT:FALSE
SUMMARY:Trunk or Treat
DESCRIPTION:Trunk or Treat at the Church!. Please stop by and say Trick or Treat!
X-ALT-DESC;FMTTYPE=text/html:<span style="color: rgb(29\, 33\, 41)\; font-family: Helvetica\, Arial\, sans-serif\; font-size: 14px\; background-color: rgb(255\, 255\, 255)\;">Trunk or Treat at the Church!. Please stop by and say Trick or Treat!</span>
LOCATION:pin Bardstown First Christian Church 175 E Rowan Blvd\, Bardstown\, Kentucky 40004
UID:e.2912.1613
SEQUENCE:3
DTSTAMP:20260419T181555Z
URL:https://members.bardstownchamber.com/events/details/trunk-or-treat-1613
END:VEVENT

END:VCALENDAR
