BEGIN:VCALENDAR
VERSION:2.0
PRODID:-//ChamberMaster//Event Calendar 2.0//EN
METHOD:PUBLISH
X-PUBLISHED-TTL:P3D
REFRESH-INTERVAL:P3D
CALSCALE:GREGORIAN
BEGIN:VEVENT
DTSTART:20180529T230000Z
DTEND:20180530T010000Z
X-MICROSOFT-CDO-ALLDAYEVENT:FALSE
SUMMARY:Trivia Night
DESCRIPTION:Trivia Night at Mammy's Kitchen \n\nGather a team (up to six) for some Trivia fun! Play for prizes & giveaways and enjoy $15 Bottles of wine and $1 off all appetizers!
X-ALT-DESC;FMTTYPE=text/html:Trivia Night at Mammy&#39\;s Kitchen&nbsp\;<br />\n<span style="color: rgb(75\, 79\, 86)\; font-family: Helvetica\, Arial\, sans-serif\; font-size: 14px\; background-color: rgb(255\, 255\, 255)\;">Gather a team (up to six) for some Trivia fun! Play for prizes &amp\; giveaways and enjoy $15 Bottles of wine and $1 off all appetizers!</span>
LOCATION:
UID:e.2912.1479
SEQUENCE:3
DTSTAMP:20260420T010136Z
URL:https://members.bardstownchamber.com/events/details/trivia-night-1479
END:VEVENT

END:VCALENDAR
