BEGIN:VCALENDAR
VERSION:2.0
PRODID:-//ChamberMaster//Event Calendar 2.0//EN
METHOD:PUBLISH
X-PUBLISHED-TTL:P3D
REFRESH-INTERVAL:P3D
CALSCALE:GREGORIAN
BEGIN:VEVENT
DTSTART:20180807T230000Z
DTEND:20180808T010000Z
X-MICROSOFT-CDO-ALLDAYEVENT:FALSE
SUMMARY:Trivia at Mammy's
DESCRIPTION:Every Tuesday at 7pm! Prizes for top 2 teams. \n\n$12 Bottles of Wine/$10 Burger & Beer/$5 Margaritas
X-ALT-DESC;FMTTYPE=text/html:<span style="color: rgb(29\, 33\, 41)\; font-family: Helvetica\, Arial\, sans-serif\; font-size: 14px\; background-color: rgb(255\, 255\, 255)\;">Every Tuesday at 7pm! Prizes for top 2 teams.&nbsp\;</span><br style="color: rgb(29\, 33\, 41)\; font-family: Helvetica\, Arial\, sans-serif\; font-size: 14px\; background-color: rgb(255\, 255\, 255)\;" />\n<span style="color: rgb(29\, 33\, 41)\; font-family: Helvetica\, Arial\, sans-serif\; font-size: 14px\; background-color: rgb(255\, 255\, 255)\;">$12 Bottles of Wine/$10 Burger &amp\; Beer/$5 Margaritas</span>
LOCATION:
UID:e.2912.1557
SEQUENCE:3
DTSTAMP:20260419T224048Z
URL:https://members.bardstownchamber.com/events/details/trivia-at-mammy-s-1557
END:VEVENT

END:VCALENDAR
