BEGIN:VCALENDAR
VERSION:2.0
PRODID:-//ChamberMaster//Event Calendar 2.0//EN
METHOD:PUBLISH
X-PUBLISHED-TTL:P3D
REFRESH-INTERVAL:P3D
CALSCALE:GREGORIAN
BEGIN:VEVENT
DTSTART:20181012T213000Z
DTEND:20181013T010000Z
X-MICROSOFT-CDO-ALLDAYEVENT:FALSE
SUMMARY:TRAIN JOB | Kentucky Browncoats & My Old KY Dinner Train
DESCRIPTION:WELCOME ABOARD! \n\nJoin Captain Nyorissa Kel and the Kentucky Browncoats for a night of food and decadent frivolity. There's been a theft and the Captain needs your help to suss' out the problem. You can sit back and watch the crew play out the mystery or you can listen for cues and follow along with scripted interference\, participation is at your own comfort level!\n\n\n\nEveryone aboard will get to pick their own meal from a sumptuous four-course menu ahead of time\; ticket holders will be sent confirmation and a menu to select from upon ticket purchase. There is a cash bar available as well for additional cost while you kick back and ride the rails for two and a half hours.
X-ALT-DESC;FMTTYPE=text/html:<span style="color: rgb(29\, 33\, 41)\; font-family: Helvetica\, Arial\, sans-serif\; font-size: 14px\; background-color: rgb(255\, 255\, 255)\;">WELCOME ABOARD!&nbsp\;</span><br style="color: rgb(29\, 33\, 41)\; font-family: Helvetica\, Arial\, sans-serif\; font-size: 14px\; background-color: rgb(255\, 255\, 255)\;" />\n<span style="color: rgb(29\, 33\, 41)\; font-family: Helvetica\, Arial\, sans-serif\; font-size: 14px\; background-color: rgb(255\, 255\, 255)\;">Join Captain Nyorissa Kel and the Kentucky Browncoats for a night of food and decadent frivolity. There&#39\;s been a theft and the Captain needs your help to suss&#39\; out the problem. You can sit back and watch the crew play out the mystery or you can listen for cues and follow along with scripted interference\, participation is at your own comfort level!</span><br style="color: rgb(29\, 33\, 41)\; font-family: Helvetica\, Arial\, sans-serif\; font-size: 14px\; background-color: rgb(255\, 255\, 255)\;" />\n<br style="color: rgb(29\, 33\, 41)\; font-family: Helvetica\, Arial\, sans-serif\; font-size: 14px\; background-color: rgb(255\, 255\, 255)\;" />\n<span style="color: rgb(29\, 33\, 41)\; font-family: Helvetica\, Arial\, sans-serif\; font-size: 14px\; background-color: rgb(255\, 255\, 255)\;">Everyone aboard will get to pick their own meal from a sumptuous four-course menu ahead of time\; ticket holders will be sent confirmation and a menu to select from upon ticket purchase. There is a cash bar available as well for additional cost while you kick back and ride the rails for two and a half hours.</span>
LOCATION:
UID:e.2912.1618
SEQUENCE:3
DTSTAMP:20260419T182251Z
URL:https://members.bardstownchamber.com/events/details/train-job-kentucky-browncoats-my-old-ky-dinner-train-1618
END:VEVENT

END:VCALENDAR
