BEGIN:VCALENDAR
VERSION:2.0
PRODID:-//ChamberMaster//Event Calendar 2.0//EN
METHOD:PUBLISH
X-PUBLISHED-TTL:P3D
REFRESH-INTERVAL:P3D
CALSCALE:GREGORIAN
BEGIN:VEVENT
DTSTART:20180720T123000Z
DTEND:20180720T220000Z
X-MICROSOFT-CDO-ALLDAYEVENT:FALSE
SUMMARY:Town & County Customer Appreciation Day
DESCRIPTION:Mark your calendar for John Rowan Blvd branch's Customer Appreciation Day! We will have the Mary Poppins characters from the Stephen Foster Drama here for a meet and great\, along with lunch from 11am-1pm. There will also be several fun giveaways.
X-ALT-DESC;FMTTYPE=text/html:<span style="color: rgb(29\, 33\, 41)\; font-family: Helvetica\, Arial\, sans-serif\; font-size: 14px\; background-color: rgb(255\, 255\, 255)\;">Mark your calendar for John Rowan Blvd branch&#39\;s Customer Appreciation Day! We will have the Mary Poppins characters from the Stephen Foster Drama here for a meet and great\, along with lunch from 11am-1pm. There will also be several fun giveaways.</span>
LOCATION:
UID:e.2912.1526
SEQUENCE:3
DTSTAMP:20260419T224728Z
URL:https://members.bardstownchamber.com/events/details/town-county-customer-appreciation-day-1526
END:VEVENT

END:VCALENDAR
