BEGIN:VCALENDAR
VERSION:2.0
PRODID:-//ChamberMaster//Event Calendar 2.0//EN
METHOD:PUBLISH
X-PUBLISHED-TTL:P3D
REFRESH-INTERVAL:P3D
CALSCALE:GREGORIAN
BEGIN:VEVENT
DTSTART:20180518T130000Z
DTEND:20180518T200000Z
X-MICROSOFT-CDO-ALLDAYEVENT:FALSE
SUMMARY:Town & Country Plaza Customer Appreciation Day
DESCRIPTION:Join us at Town & Country Bank's Plaza location (237 Plaza Dr) on May 18th for our Customer Appreciation Day! Lunch will be provided by the bank from 11am - 1pm. Stop by the week of May 14th - 18th to enter your name in a drawing for fun giveaways!
X-ALT-DESC;FMTTYPE=text/html:Join us at Town &amp\; Country Bank&#39\;s Plaza location (237 Plaza Dr) on May 18th for our Customer Appreciation Day! Lunch will be provided by the bank from 11am - 1pm. Stop by the week of May 14th - 18th to enter your name in a drawing for fun giveaways!&nbsp\;
LOCATION:237 Plaza Dr\, Bardstown\, KY 40004
UID:e.2912.1446
SEQUENCE:3
DTSTAMP:20260420T011049Z
URL:https://members.bardstownchamber.com/events/details/town-country-plaza-customer-appreciation-day-1446
END:VEVENT

END:VCALENDAR
