BEGIN:VCALENDAR
VERSION:2.0
PRODID:-//ChamberMaster//Event Calendar 2.0//EN
METHOD:PUBLISH
X-PUBLISHED-TTL:P3D
REFRESH-INTERVAL:P3D
CALSCALE:GREGORIAN
BEGIN:VEVENT
DTSTART:20180511T130000Z
DTEND:20180511T200000Z
X-MICROSOFT-CDO-ALLDAYEVENT:FALSE
SUMMARY:Town & Country New Haven Customer Appreciation Day
DESCRIPTION:Join us at Town & Country Bank's New Haven location (148 S Main St) on May 11th for our Customer Appreciation Day! Lunch will be provided by the bank from 11am - 1pm. Stop by the week of May 7th - 11th to enter your name in a drawing for fun giveaways!
X-ALT-DESC;FMTTYPE=text/html:Join us at Town &amp\; Country Bank&#39\;s New Haven location (<span style="background-color:rgba(255\, 255\, 255\, 0.85)\; color:rgb(68\, 68\, 68)\; font-family:arial\,helvetica\,sans-serif">148 S Main St</span>) on May 11th for our Customer Appreciation Day! Lunch will be provided by the bank from 11am - 1pm. Stop by the week of May 7th - 11th to enter your name in a drawing for fun giveaways!
LOCATION:148 S Main St New Haven\, KY 40051
UID:e.2912.1448
SEQUENCE:3
DTSTAMP:20260420T011050Z
URL:https://members.bardstownchamber.com/events/details/town-country-new-haven-customer-appreciation-day-1448
END:VEVENT

END:VCALENDAR
