BEGIN:VCALENDAR
VERSION:2.0
PRODID:-//ChamberMaster//Event Calendar 2.0//EN
METHOD:PUBLISH
X-PUBLISHED-TTL:P3D
REFRESH-INTERVAL:P3D
CALSCALE:GREGORIAN
BEGIN:VEVENT
DTSTART:20180629T150000Z
DTEND:20180629T170000Z
X-MICROSOFT-CDO-ALLDAYEVENT:FALSE
SUMMARY:Town& Country Customer Appreciation Day!!
DESCRIPTION:Be sure to stop by our Main branch this Friday\, June 29th\, for Customer Appreciation Day! Lunch will be served from 11am-1pm and there will be several fun giveaways. Check In on Facebook so we know you made it by
X-ALT-DESC;FMTTYPE=text/html:<span style="color: rgb(29\, 33\, 41)\; font-family: Helvetica\, Arial\, sans-serif\; font-size: 14px\; background-color: rgb(255\, 255\, 255)\;">Be sure to stop by our Main branch this Friday\, June 29th\, for Customer Appreciation Day! Lunch will be served from 11am-1pm and there will be several fun giveaways. Check In on Facebook so we know you made it by</span>
LOCATION:pin Town & Country Bank and Trust Co. 201 North Third Street\, Bardstown\, Kentucky 40004
UID:e.2912.1521
SEQUENCE:3
DTSTAMP:20260420T010450Z
URL:https://members.bardstownchamber.com/events/details/town-country-customer-appreciation-day-1521
END:VEVENT

END:VCALENDAR
