BEGIN:VCALENDAR
VERSION:2.0
PRODID:-//ChamberMaster//Event Calendar 2.0//EN
METHOD:PUBLISH
X-PUBLISHED-TTL:P3D
REFRESH-INTERVAL:P3D
CALSCALE:GREGORIAN
BEGIN:VEVENT
DTSTART:20181024T223000Z
DTEND:20181024T233000Z
X-MICROSOFT-CDO-ALLDAYEVENT:FALSE
SUMMARY:Total Joint Seminar with KORT Physical Therapy
DESCRIPTION:Join KORT Physical Therapy and Dr. Mark C. Duber for a Total Joint Seminar. If you have pain or are considering surgery for your pain\, this seminar is for you!
X-ALT-DESC;FMTTYPE=text/html:<span style="font-size:14px"><span style="font-family:verdana">Join KORT Physical Therapy and Dr. Mark C. Duber for a Total Joint Seminar. If you have pain or are considering surgery for your pain\, this seminar is for you!</span></span>
LOCATION:Bardstown Country Club 130 Maywood Avenue Bardstown\, KY 40004
UID:e.2912.1600
SEQUENCE:3
DTSTAMP:20260419T194430Z
URL:https://members.bardstownchamber.com/events/details/total-joint-seminar-with-kort-physical-therapy-1600
END:VEVENT

END:VCALENDAR
