BEGIN:VCALENDAR
VERSION:2.0
PRODID:-//ChamberMaster//Event Calendar 2.0//EN
METHOD:PUBLISH
X-PUBLISHED-TTL:P3D
REFRESH-INTERVAL:P3D
CALSCALE:GREGORIAN
BEGIN:VEVENT
DTSTART:20200910T130000Z
DTEND:20200910T153000Z
X-MICROSOFT-CDO-ALLDAYEVENT:FALSE
SUMMARY:Time Management
DESCRIPTION:ECTC and the Bardstown Nelson County Chamber of Commerce has partnered to bring you this opportunity.\n\n\n\nTime management increases communication.\n\nClass will cover: \n\n\n	Organizing activities\n	Defining projects\n	Creating priorities
X-ALT-DESC;FMTTYPE=text/html:<p class="_04xlpA direction-ltr align-start para-style-body" style="line-height: 1.4\; font-family: &quot\;YACgEZ1cb1Q 0&quot\;\, _fb_\, auto\; font-size: 16.6859px\;"><br />\n<span style="font-size:14px\;"><span style="font-family:arial\;"><span class="JsGRdQ">ECTC and the Bardstown Nelson County Chamber of Commerce has partnered to bring you this opportunity.</span><br />\n<br />\n<span class="JsGRdQ" style="font-weight: 700\;">Time management increases communication.<br />\nClass will cover:&nbsp\;</span></span></span></p>\n\n<ul style="padding: 0px 40px\; color: rgb(51\, 51\, 51)\; font-family: sans-serif\, Arial\, Verdana\, &quot\;Trebuchet MS&quot\;\; font-size: 13px\;">\n	<li><span style="font-size:14px\;"><span style="font-family:arial\;">Organizing activities</span></span></li>\n	<li><span style="font-size:14px\;"><span style="font-family:arial\;">Defining projects</span></span></li>\n	<li><span style="font-size:14px\;"><span style="font-family:arial\;">Creating&nbsp\;priorities</span></span></li>\n</ul>\n
LOCATION:Classes will all be online
UID:e.2912.2888
SEQUENCE:3
DTSTAMP:20260419T215814Z
URL:https://members.bardstownchamber.com/events/details/time-management-2888
END:VEVENT

END:VCALENDAR
