BEGIN:VCALENDAR
VERSION:2.0
PRODID:-//ChamberMaster//Event Calendar 2.0//EN
METHOD:PUBLISH
X-PUBLISHED-TTL:P3D
REFRESH-INTERVAL:P3D
CALSCALE:GREGORIAN
BEGIN:VEVENT
DTSTART:20200226T133000Z
DTEND:20200226T143000Z
X-MICROSOFT-CDO-ALLDAYEVENT:FALSE
SUMMARY:Thoroughbred Asset Management Connect
DESCRIPTION:Bardstown Nelson Chamber \n\n2020 Connects\n\nThe Business Connect is a traditional monthly networking event for business professionals held at variety of venues.  The one-hour event is a great opportunity to meet business professionals in your area \n\n There is no charge for members who attend this event. \n\nFebruary morning connect is Hosted by Thoroughbred Asset management
X-ALT-DESC;FMTTYPE=text/html:<span style="font-size:14.0pt\;">Bardstown Nelson Chamber&nbsp\;</span><br />\n<span style="font-size:14.0pt\;">2020 Connects</span><br />\nThe Business Connect is a traditional monthly networking event for business professionals held at variety of venues. &nbsp\;The one-hour event is a great opportunity&nbsp\;to meet business professionals in your area&nbsp\;<br />\n<span style="color:black\;">&nbsp\;There is no charge for members who attend this event. </span><br />\nFebruary morning connect is Hosted by Thoroughbred Asset management&nbsp\;<br />\n<br />\n<br />\n&nbsp\;
LOCATION:809 Morton Ave. Suite 200 Bardstown Ky\, 40004
UID:e.2912.2827
SEQUENCE:3
DTSTAMP:20260419T211739Z
URL:https://members.bardstownchamber.com/events/details/thoroughbred-asset-management-connect-2827
END:VEVENT

END:VCALENDAR
