BEGIN:VCALENDAR
VERSION:2.0
PRODID:-//ChamberMaster//Event Calendar 2.0//EN
METHOD:PUBLISH
X-PUBLISHED-TTL:P3D
REFRESH-INTERVAL:P3D
CALSCALE:GREGORIAN
BEGIN:VEVENT
DTSTART:20180915T140000Z
DTEND:20180915T160000Z
X-MICROSOFT-CDO-ALLDAYEVENT:FALSE
SUMMARY:The Science of Maturation
DESCRIPTION:Have you ever wondered what happens inside of a barrel? During this session we will take a look at how whiskey matures within the barrel it calls home. Barrels have additive\, subtractive and interactive properties\, each will impact the whiskey in different ways. Come see what each action does and how the barrel\, and where it is stored\, will affect what is happening to the spirit inside. Instruction includes analysis of barrel pulls and how each individual barrel imparts its own unique flavor. Brought to you by our friends at Moonshine University .
X-ALT-DESC;FMTTYPE=text/html:Have you ever wondered what happens inside of a barrel? During this session we will take a look at how whiskey matures within the barrel it calls home. Barrels have additive\, subtractive and interactive properties\, each will impact the whiskey in different ways. Come see what each action does and how the barrel\, and where it is stored\, will affect what is happening to the spirit inside. Instruction includes analysis of barrel pulls and how each individual barrel imparts its own unique flavor. Brought to you by our friends at Moonshine University&reg\;.
LOCATION:Spalding Hall Chapel (1)\, 114 N. Fifth St.\, Bardstown\, KY
UID:e.2912.1496
SEQUENCE:3
DTSTAMP:20260419T211826Z
URL:https://members.bardstownchamber.com/events/details/the-science-of-maturation-1496
END:VEVENT

END:VCALENDAR
