BEGIN:VCALENDAR
VERSION:2.0
PRODID:-//ChamberMaster//Event Calendar 2.0//EN
METHOD:PUBLISH
X-PUBLISHED-TTL:P3D
REFRESH-INTERVAL:P3D
CALSCALE:GREGORIAN
BEGIN:VEVENT
DTSTART:20181012T160000Z
DTEND:20181012T170000Z
X-MICROSOFT-CDO-ALLDAYEVENT:FALSE
SUMMARY:The Purple Purse Challenge
DESCRIPTION:
X-ALT-DESC;FMTTYPE=text/html:
LOCATION:My Old Kentucky Home State Park
UID:e.2912.1602
SEQUENCE:3
DTSTAMP:20260419T195043Z
URL:https://members.bardstownchamber.com/events/details/the-purple-purse-challenge-1602
END:VEVENT

END:VCALENDAR
