BEGIN:VCALENDAR
VERSION:2.0
PRODID:-//ChamberMaster//Event Calendar 2.0//EN
METHOD:PUBLISH
X-PUBLISHED-TTL:P3D
REFRESH-INTERVAL:P3D
CALSCALE:GREGORIAN
BEGIN:VEVENT
DTSTART:20190621T163000Z
DTEND:20190621T170000Z
X-MICROSOFT-CDO-ALLDAYEVENT:FALSE
SUMMARY:The Peach Truck Tour - Bardstown\, KY
DESCRIPTION:The Peach Truck Tour is coming to town!\n\n\n\nTo see the full schedule\, go here: thepeachtruck.com/tour. Make sure you click the "Remind Me" button to get reminders about our stops in your town!\n\n\n\nTo find the location nearest you\, go here: https://thepeachtruck.com/pages/all-locations\n\n\n\nAll your frequently asked questions are answered here: https://thepeachtruck.com/pages/faq#Tour\n\n\n\nA 25 lb. box of peaches will be $42\, a bag of pecans (10 oz. shelled and halved) will be $10\, and The Peach Truck Cookbook will be available for $25! Make sure and ask the team about The Peach Truck Special!\n\n\n\nY'all\, this is the best crop we've ever had. Not only is it the fullest crop in our history (did someone say no sell outs and no limits?!)\, but the flavor is going to be off the charts!
X-ALT-DESC;FMTTYPE=text/html:<span style="color: rgb(29\, 33\, 41)\; font-family: Helvetica\, Arial\, sans-serif\; font-size: 14px\; white-space: pre-wrap\; background-color: rgb(255\, 255\, 255)\;">The Peach Truck Tour is coming to town!</span><br style="color: rgb(29\, 33\, 41)\; font-family: Helvetica\, Arial\, sans-serif\; font-size: 14px\; white-space: pre-wrap\; background-color: rgb(255\, 255\, 255)\;" />\n<br style="color: rgb(29\, 33\, 41)\; font-family: Helvetica\, Arial\, sans-serif\; font-size: 14px\; white-space: pre-wrap\; background-color: rgb(255\, 255\, 255)\;" />\n<span style="color: rgb(29\, 33\, 41)\; font-family: Helvetica\, Arial\, sans-serif\; font-size: 14px\; white-space: pre-wrap\; background-color: rgb(255\, 255\, 255)\;">To see the full schedule\, go here: </span><a data-lynx-mode="hover" data-lynx-uri="https://l.facebook.com/l.php?u=http%3A%2F%2Fthepeachtruck.com%2Ftour%3Ffbclid%3DIwAR0AJzgJDKp9xJKCmxeurfxNm5y94yEVIrg4gRnt59mg3AfcgaVgj9dA_Ao&amp\;h=AT1GXPDtwnKsIewBWeN1ZzjDgglygNBFJTgoP351MTU-mq5tOjxrtqJhfGEds0N_pfpSNn1GYD0nySLbrtBHqlYvL78VMA8y1LdWdK9TcLPKN-mCFOimB8j_277Dzl4-BA" href="http://thepeachtruck.com/tour?fbclid=IwAR0AJzgJDKp9xJKCmxeurfxNm5y94yEVIrg4gRnt59mg3AfcgaVgj9dA_Ao" rel="nofollow noopener" style="color: rgb(56\, 88\, 152)\; cursor: pointer\; text-decoration-line: none\; font-family: Helvetica\, Arial\, sans-serif\; font-size: 14px\; white-space: pre-wrap\; background-color: rgb(255\, 255\, 255)\;" target="_blank">thepeachtruck.com/tour</a><span style="color: rgb(29\, 33\, 41)\; font-family: Helvetica\, Arial\, sans-serif\; font-size: 14px\; white-space: pre-wrap\; background-color: rgb(255\, 255\, 255)\;">. Make sure you click the &quot\;Remind Me&quot\; button to get reminders about our stops in your town!</span><br style="color: rgb(29\, 33\, 41)\; font-family: Helvetica\, Arial\, sans-serif\; font-size: 14px\; white-space: pre-wrap\; background-color: rgb(255\, 255\, 255)\;" />\n<br style="color: rgb(29\, 33\, 41)\; font-family: Helvetica\, Arial\, sans-serif\; font-size: 14px\; white-space: pre-wrap\; background-color: rgb(255\, 255\, 255)\;" />\n<span style="color: rgb(29\, 33\, 41)\; font-family: Helvetica\, Arial\, sans-serif\; font-size: 14px\; white-space: pre-wrap\; background-color: rgb(255\, 255\, 255)\;">To find the location nearest you\, go here: </span><a data-lynx-mode="hover" data-lynx-uri="https://l.facebook.com/l.php?u=https%3A%2F%2Fthepeachtruck.com%2Fpages%2Fall-locations%3Ffbclid%3DIwAR3thVcOdBTRimif1obkzYyl7lmSMYN1JiRhJExUltW9T-Z5YlbFZQW40_Y&amp\;h=AT04lHJ8zV9taO0SOq_12a4-UDlVUXqchMcEIrARoaFXDkllbYQLRQoPzC73Bl_bECd2d17gwjilvlCLcDPZ3zhNUWUkFJVxvkKpRfM-5EOjO3OMZdGahNseXl8wRA0VQg" href="https://thepeachtruck.com/pages/all-locations?fbclid=IwAR3thVcOdBTRimif1obkzYyl7lmSMYN1JiRhJExUltW9T-Z5YlbFZQW40_Y" rel="nofollow noopener" style="color: rgb(56\, 88\, 152)\; cursor: pointer\; text-decoration-line: none\; font-family: Helvetica\, Arial\, sans-serif\; font-size: 14px\; white-space: pre-wrap\; background-color: rgb(255\, 255\, 255)\;" target="_blank">https://thepeachtruck.com/pages/all-locations</a><br style="color: rgb(29\, 33\, 41)\; font-family: Helvetica\, Arial\, sans-serif\; font-size: 14px\; white-space: pre-wrap\; background-color: rgb(255\, 255\, 255)\;" />\n<br style="color: rgb(29\, 33\, 41)\; font-family: Helvetica\, Arial\, sans-serif\; font-size: 14px\; white-space: pre-wrap\; background-color: rgb(255\, 255\, 255)\;" />\n<span style="color: rgb(29\, 33\, 41)\; font-family: Helvetica\, Arial\, sans-serif\; font-size: 14px\; white-space: pre-wrap\; background-color: rgb(255\, 255\, 255)\;">All your frequently asked questions are answered here: </span><a data-lynx-mode="hover" href="https://l.facebook.com/l.php?u=https%3A%2F%2Fthepeachtruck.com%2Fpages%2Ffaq%3Ffbclid%3DIwAR3zKLMPxwv9cX6Q0Td-re4C0HYSgEjm5Mmp-wl3vyy3ABsNDnfN0bmJPs8%23Tour&amp\;h=AT3fLA1e4hbB3FQXid-podPAElH_dtmXpxQDpTG9qKxmQkpJZ7jf2EvpIHKDkhOToWA3cbGCFEUaVUvvNWpT0wCZf9d5z5xtVBOLXn1Vwhi24JZNsMTu6EpZVI0SBYTIBg" rel="nofollow noopener" style="color: rgb(56\, 88\, 152)\; cursor: pointer\; text-decoration-line: none\; font-family: Helvetica\, Arial\, sans-serif\; font-size: 14px\; white-space: pre-wrap\; background-color: rgb(255\, 255\, 255)\;" target="_blank">https://thepeachtruck.com/pages/faq#Tour</a><br style="color: rgb(29\, 33\, 41)\; font-family: Helvetica\, Arial\, sans-serif\; font-size: 14px\; white-space: pre-wrap\; background-color: rgb(255\, 255\, 255)\;" />\n<br style="color: rgb(29\, 33\, 41)\; font-family: Helvetica\, Arial\, sans-serif\; font-size: 14px\; white-space: pre-wrap\; background-color: rgb(255\, 255\, 255)\;" />\n<span style="color: rgb(29\, 33\, 41)\; font-family: Helvetica\, Arial\, sans-serif\; font-size: 14px\; white-space: pre-wrap\; background-color: rgb(255\, 255\, 255)\;">A 25 lb. box of peaches will be $42\, a bag of pecans (10 oz. shelled and halved) will be $10\, and The Peach Truck Cookbook will be available for $25! Make sure and ask the team about The Peach Truck Special!</span><br style="color: rgb(29\, 33\, 41)\; font-family: Helvetica\, Arial\, sans-serif\; font-size: 14px\; white-space: pre-wrap\; background-color: rgb(255\, 255\, 255)\;" />\n<br style="color: rgb(29\, 33\, 41)\; font-family: Helvetica\, Arial\, sans-serif\; font-size: 14px\; white-space: pre-wrap\; background-color: rgb(255\, 255\, 255)\;" />\n<span style="color: rgb(29\, 33\, 41)\; font-family: Helvetica\, Arial\, sans-serif\; font-size: 14px\; white-space: pre-wrap\; background-color: rgb(255\, 255\, 255)\;">Y&#39\;all\, this is the best crop we&#39\;ve ever had. Not only is it the fullest crop in our history (did someone say no sell outs and no limits?!)\, but the flavor is going to be off the charts!</span>
LOCATION:
UID:e.2912.1756
SEQUENCE:3
DTSTAMP:20260419T124853Z
URL:https://members.bardstownchamber.com/events/details/the-peach-truck-tour-bardstown-ky-1756
END:VEVENT

END:VCALENDAR
