BEGIN:VCALENDAR
VERSION:2.0
PRODID:-//ChamberMaster//Event Calendar 2.0//EN
METHOD:PUBLISH
X-PUBLISHED-TTL:P3D
REFRESH-INTERVAL:P3D
CALSCALE:GREGORIAN
BEGIN:VEVENT
DTSTART:20180512T000000Z
DTEND:20180512T035500Z
X-MICROSOFT-CDO-ALLDAYEVENT:FALSE
SUMMARY:The Lovers at 3rd Street Tap House
DESCRIPTION:The Lovers duo featuring Cole Vosbury from Season 5 of NBC's The Voice will be back again to play for our friends near Louisville/Bardstown area playing your favorite songs. Come out to see us!!  Free show.
X-ALT-DESC;FMTTYPE=text/html:<span style="color: rgb(75\, 79\, 86)\; font-family: Helvetica\, Arial\, sans-serif\; font-size: 14px\; background-color: rgb(255\, 255\, 255)\;">The Lovers duo featuring Cole Vosbury from Season 5 of NBC&#39\;s The Voice will be back again to play for our friends near Louisville/Bardstown area playing your favorite songs. Come out to see us!! &#127775\;Free show.&nbsp\;</span>
LOCATION:
UID:e.2912.1462
SEQUENCE:3
DTSTAMP:20260420T023331Z
URL:https://members.bardstownchamber.com/events/details/the-lovers-at-3rd-street-tap-house-1462
END:VEVENT

END:VCALENDAR
