BEGIN:VCALENDAR
VERSION:2.0
PRODID:-//ChamberMaster//Event Calendar 2.0//EN
METHOD:PUBLISH
X-PUBLISHED-TTL:P3D
REFRESH-INTERVAL:P3D
CALSCALE:GREGORIAN
BEGIN:VEVENT
DTSTART:20180623T180000Z
DTEND:20180624T190000Z
X-MICROSOFT-CDO-ALLDAYEVENT:FALSE
SUMMARY:The Great Train Robbery
DESCRIPTION:Watch out for Clayton's Wild Bunch or they may take over your train during our very popular Great Train Robbery. These cowboys are not shy about taking all of your money! Everything they collect goes straight to WHAS Crusade for Children. Over $5\,000 is raised annually! Reservations are highly recommended as these are usually sold out events. Tickets are $21 for adults and $16 for children ages 2-12.
X-ALT-DESC;FMTTYPE=text/html:<span style="color: rgb(29\, 33\, 41)\; font-family: Helvetica\, Arial\, sans-serif\; font-size: 14px\; background-color: rgb(255\, 255\, 255)\;">Watch out for Clayton&#39\;s Wild Bunch or they may take over your train during our very popular Great Train Robbery. These cowboys are not shy about taking all of your money! Everything they collect goes straight to WHAS Crusade for Children. Over $5\,000 is raised annually! Reservations are highly recommended as these are usually sold out events. Tickets are $21 for adults and $16 for children ages 2-12.</span>
LOCATION:pin The Kentucky Railway Museum 136 South Main Street\, New Haven\, Kentucky 40051
UID:e.2912.1510
SEQUENCE:3
DTSTAMP:20260419T235152Z
URL:https://members.bardstownchamber.com/events/details/the-great-train-robbery-1510
END:VEVENT

END:VCALENDAR
