BEGIN:VCALENDAR
VERSION:2.0
PRODID:-//ChamberMaster//Event Calendar 2.0//EN
METHOD:PUBLISH
X-PUBLISHED-TTL:P3D
REFRESH-INTERVAL:P3D
CALSCALE:GREGORIAN
BEGIN:VEVENT
DTSTART:20180915T223000Z
DTEND:20180916T050000Z
X-MICROSOFT-CDO-ALLDAYEVENT:FALSE
SUMMARY:The Great Kentucky Bourbon Tasting & Gala®
DESCRIPTION:The Tasting & Gala is the signature event of the Kentucky Bourbon Festival. A Bourbon lover's dream and a night you will never forget. Begin your evening by sampling the finest Kentucky Bourbons from several distilleries and brands\, with a chance to meet Master Distillers and Ambassadors and nibble on genuine Kentucky cuisine. Following the tasting\, enjoy a gourmet Kentucky meal and dancing. Black tie strongly encouraged. Valet Parking.
X-ALT-DESC;FMTTYPE=text/html:The Tasting &amp\; Gala is the signature event of the Kentucky Bourbon Festival. A Bourbon lover&rsquo\;s dream and a night you will never forget. Begin your evening by sampling the finest Kentucky Bourbons from several distilleries and brands\, with a chance to meet Master Distillers and Ambassadors and nibble on genuine Kentucky cuisine. Following the tasting\, enjoy a gourmet Kentucky meal and dancing. Black tie strongly encouraged. Valet Parking.
LOCATION:Guthrie Opportunity Center\, 900 Nutter Dr.\, Bardstown\, KY
UID:e.2912.1499
SEQUENCE:3
DTSTAMP:20260419T195829Z
URL:https://members.bardstownchamber.com/events/details/the-great-kentucky-bourbon-tasting-gala-1499
END:VEVENT

END:VCALENDAR
