BEGIN:VCALENDAR
VERSION:2.0
PRODID:-//ChamberMaster//Event Calendar 2.0//EN
METHOD:PUBLISH
X-PUBLISHED-TTL:P3D
REFRESH-INTERVAL:P3D
CALSCALE:GREGORIAN
BEGIN:VEVENT
DTSTART:20180911T230000Z
DTEND:20180912T020000Z
X-MICROSOFT-CDO-ALLDAYEVENT:FALSE
SUMMARY:The Girl Going No Where Tour At Mammy's kitchen
DESCRIPTION:The Girl Going Nowhere Tour 2018\n\nTickets on sale NOW! Stop in or call (502) 350-1097 for purchase during normal business hours.
X-ALT-DESC;FMTTYPE=text/html:<span style="color: rgb(29\, 33\, 41)\; font-family: Helvetica\, Arial\, sans-serif\; font-size: 14px\; background-color: rgb(255\, 255\, 255)\;">The Girl Going Nowhere Tour 2018</span><br style="color: rgb(29\, 33\, 41)\; font-family: Helvetica\, Arial\, sans-serif\; font-size: 14px\; background-color: rgb(255\, 255\, 255)\;" />\n<span style="color: rgb(29\, 33\, 41)\; font-family: Helvetica\, Arial\, sans-serif\; font-size: 14px\; background-color: rgb(255\, 255\, 255)\;">Tickets on sale NOW! Stop in or call (502) 350-1097 for purchase during normal business hours.</span>
LOCATION:
UID:e.2912.1564
SEQUENCE:3
DTSTAMP:20260419T211855Z
URL:https://members.bardstownchamber.com/events/details/the-girl-going-no-where-tour-at-mammy-s-kitchen-1564
END:VEVENT

END:VCALENDAR
