BEGIN:VCALENDAR
VERSION:2.0
PRODID:-//ChamberMaster//Event Calendar 2.0//EN
METHOD:PUBLISH
X-PUBLISHED-TTL:P3D
REFRESH-INTERVAL:P3D
CALSCALE:GREGORIAN
BEGIN:VEVENT
DTSTART:20211209T230000Z
DTEND:20211210T010000Z
X-MICROSOFT-CDO-ALLDAYEVENT:FALSE
SUMMARY:The First Annual Festival of Trees
DESCRIPTION:Heavy hors d' oeuvres and cocktail.\n\nRaffle\, silent auction\, and line auction.
X-ALT-DESC;FMTTYPE=text/html:Heavy hors d&#39\; oeuvres and cocktail.<br />\nRaffle\, silent auction\, and line auction.&nbsp\;
LOCATION:Guthrie Opportunity Center 900 Nutter Drive Bardstown\, KY 40004
UID:e.2912.3085
SEQUENCE:3
DTSTAMP:20260424T185152Z
URL:https://members.bardstownchamber.com/events/details/the-first-annual-festival-of-trees-3085
END:VEVENT

END:VCALENDAR
