BEGIN:VCALENDAR
VERSION:2.0
PRODID:-//ChamberMaster//Event Calendar 2.0//EN
METHOD:PUBLISH
X-PUBLISHED-TTL:P3D
REFRESH-INTERVAL:P3D
CALSCALE:GREGORIAN
BEGIN:VEVENT
DTSTART:20211205T180000Z
DTEND:20211205T210000Z
X-MICROSOFT-CDO-ALLDAYEVENT:FALSE
SUMMARY:The First Annual Festival of Trees
DESCRIPTION:Hot Chocolate and Christmas cookies available/ on purchase.
X-ALT-DESC;FMTTYPE=text/html:Hot Chocolate and Christmas cookies available/ on purchase.
LOCATION:Guthrie Opportunity Center 900 Nutter Drive Bardstown\, KY 40004
UID:e.2912.3081
SEQUENCE:3
DTSTAMP:20260424T174142Z
URL:https://members.bardstownchamber.com/events/details/the-first-annual-festival-of-trees-3081
END:VEVENT

END:VCALENDAR
