BEGIN:VCALENDAR
VERSION:2.0
PRODID:-//ChamberMaster//Event Calendar 2.0//EN
METHOD:PUBLISH
X-PUBLISHED-TTL:P3D
REFRESH-INTERVAL:P3D
CALSCALE:GREGORIAN
BEGIN:VEVENT
DTSTART:20190920T103000Z
DTEND:20190920T113000Z
X-MICROSOFT-CDO-ALLDAYEVENT:FALSE
SUMMARY:The Community Brew
DESCRIPTION:THE COMMUNITY BREW HAPPENS EACH MONTH AT FRESH IN DOWNTOWN BARDSTOWN FROM 6: 30 AM to 7:30 AM.  WE GATHER TO EXPLORE REFLECTIVE QUESTIONS\, LEARN TOGETHER\, AND FOCUS ON OUR PRIORITIES AS A COMMUNITY OF SCHOOLS.
X-ALT-DESC;FMTTYPE=text/html:<small><span style="font-size:12px"><span style="font-family:arial\,helvetica\,sans-serif"><span style="background-color:transparent\; color:rgb(0\, 0\, 0)">THE COMMUNITY BREW HAPPENS&nbsp\;</span><span style="background-color:transparent\; color:rgb(0\, 0\, 0)">EACH MONTH AT&nbsp\;</span><strong>FRESH&nbsp\;</strong><span style="background-color:transparent\; color:rgb(0\, 0\, 0)">IN DOWNTOWN BARDSTOWN FROM 6: 30 AM to 7:30 AM. &nbsp\;WE GATHER TO EXPLORE REFLECTIVE QUESTIONS\, LEARN TOGETHER\, AND FOCUS ON OUR PRIORITIES AS A COMMUNITY OF SCHOOLS.</span></span></span></small>\n<div>&nbsp\;</div>\n
LOCATION:Fresh Coffee\, Pastries\, & More 114 N 3rd St\, Bardstown\, KY 40004
UID:e.2912.1790
SEQUENCE:3
DTSTAMP:20260419T132743Z
URL:https://members.bardstownchamber.com/events/details/the-community-brew-09-20-2019-1790
END:VEVENT

END:VCALENDAR
