BEGIN:VCALENDAR
VERSION:2.0
PRODID:-//ChamberMaster//Event Calendar 2.0//EN
METHOD:PUBLISH
X-PUBLISHED-TTL:P3D
REFRESH-INTERVAL:P3D
CALSCALE:GREGORIAN
BEGIN:VEVENT
DTSTART:20180912T180000Z
DTEND:20180912T210000Z
X-MICROSOFT-CDO-ALLDAYEVENT:FALSE
SUMMARY:The Bourbon Roadshow
DESCRIPTION:Join Mammy's Kitchen and Shop Local Bardstown as we proudly present The Bourbon Roadshow during the 2028 Bourbon Festival in beautiful downtown Bardstown. Bring your bourbon related items and dusty bottles to be appraised by a group of the country's top bourbon and memorabilia experts including Bill Thomas and Jared Hyman from Jack Rose Dining Salon in Washington DC and Mike Miller from Delilah's in Chicago! Or simply join us to look at the rare items brought in and mingle with other bourbon enthusiasts and collectors! If you are a fan of Antique Roadshow or love Bourbon and history\, this is the event for you! Admission is free. Cash bar is provided by Mammys Kitchen featuring Soecialty Craft Cocktails exclusively for the event!
X-ALT-DESC;FMTTYPE=text/html:Join Mammy&rsquo\;s Kitchen and Shop Local Bardstown as we proudly present The Bourbon Roadshow during the 2028 Bourbon Festival in beautiful downtown Bardstown. Bring your bourbon related items and dusty bottles to be appraised by a group of the country&rsquo\;s top bourbon and memorabilia experts including Bill Thomas and Jared Hyman from Jack Rose Dining Salon in Washington DC and Mike Miller from Delilah&rsquo\;s in Chicago! Or simply join us to look at the rare items brought in and mingle with other bourbon enthusiasts and collectors! If you are a fan of Antique Roadshow or love Bourbon and history\, this is the event for you! Admission is free. Cash bar is provided by Mammys Kitchen featuring Soecialty Craft Cocktails exclusively for the event!
LOCATION:Mammys Kitchen
UID:e.2912.1551
SEQUENCE:3
DTSTAMP:20260419T195628Z
URL:https://members.bardstownchamber.com/events/details/the-bourbon-roadshow-1551
END:VEVENT

END:VCALENDAR
